BEGIN:VCALENDAR
VERSION:2.0
PRODID:Upper Macungie, PA Calendar Creator
METHOD:PUBLISH
BEGIN:VEVENT
DTSTAMP:20251215T161911
DTSTART:20260411T090000
DTEND:20260411T110200
SUMMARY:Shredding Event
DESCRIPTION:
X-ALT-DESC;FMTTYPE=text/html:
LOCATION:
CLASS:PUBLIC
END:VEVENT
END:VCALENDAR
