BEGIN:VCALENDAR
VERSION:2.0
PRODID:Upper Macungie, PA Calendar Creator
METHOD:PUBLISH
BEGIN:VEVENT
DTSTAMP:20260415T073619
DTSTART:20260416T190000
DTEND:20260416T210000
SUMMARY:Recreation Board
DESCRIPTION:<a href="https://upper.prod-as.govaccess.org/home/showpublisheddocument/4981/639118352806600000" target="_blank" rel="noopener">04.16.26 Agenda&nbsp;</a>
X-ALT-DESC;FMTTYPE=text/html:<a href="https://upper.prod-as.govaccess.org/home/showpublisheddocument/4981/639118352806600000" target="_blank" rel="noopener">04.16.26 Agenda&nbsp;</a>
LOCATION:Upper Macungie Municipal Building\, 8330 Schantz Rd Breinigsville\, Pennsylvania 18031
CLASS:PUBLIC
END:VEVENT
END:VCALENDAR
